BEGIN:VCALENDAR
VERSION:2.0
PRODID:-//SPD-Fraktion Steglitz-Zehlendorf - ECPv6.15.20//NONSGML v1.0//EN
CALSCALE:GREGORIAN
METHOD:PUBLISH
X-ORIGINAL-URL:https://www.spd-fraktion-steglitz-zehlendorf.de
X-WR-CALDESC:Veranstaltungen für SPD-Fraktion Steglitz-Zehlendorf
REFRESH-INTERVAL;VALUE=DURATION:PT1H
X-Robots-Tag:noindex
X-PUBLISHED-TTL:PT1H
BEGIN:VTIMEZONE
TZID:Europe/Berlin
BEGIN:DAYLIGHT
TZOFFSETFROM:+0100
TZOFFSETTO:+0200
TZNAME:CEST
DTSTART:20240331T010000
END:DAYLIGHT
BEGIN:STANDARD
TZOFFSETFROM:+0200
TZOFFSETTO:+0100
TZNAME:CET
DTSTART:20241027T010000
END:STANDARD
BEGIN:DAYLIGHT
TZOFFSETFROM:+0100
TZOFFSETTO:+0200
TZNAME:CEST
DTSTART:20250330T010000
END:DAYLIGHT
BEGIN:STANDARD
TZOFFSETFROM:+0200
TZOFFSETTO:+0100
TZNAME:CET
DTSTART:20251026T010000
END:STANDARD
BEGIN:DAYLIGHT
TZOFFSETFROM:+0100
TZOFFSETTO:+0200
TZNAME:CEST
DTSTART:20260329T010000
END:DAYLIGHT
BEGIN:STANDARD
TZOFFSETFROM:+0200
TZOFFSETTO:+0100
TZNAME:CET
DTSTART:20261025T010000
END:STANDARD
BEGIN:DAYLIGHT
TZOFFSETFROM:+0100
TZOFFSETTO:+0200
TZNAME:CEST
DTSTART:20270328T010000
END:DAYLIGHT
BEGIN:STANDARD
TZOFFSETFROM:+0200
TZOFFSETTO:+0100
TZNAME:CET
DTSTART:20271031T010000
END:STANDARD
END:VTIMEZONE
BEGIN:VEVENT
DTSTART;TZID=Europe/Berlin:20260305T180000
DTEND;TZID=Europe/Berlin:20260305T200000
DTSTAMP:20260420T191749
CREATED:20260305T162236Z
LAST-MODIFIED:20260305T185238Z
UID:10001724-1772733600-1772740800@www.spd-fraktion-steglitz-zehlendorf.de
SUMMARY:SPK Kiezkonferenz Zehlendorf Südwest
DESCRIPTION:
URL:https://www.spd-fraktion-steglitz-zehlendorf.de/event/spk-kiezkonferenz-zehlendorf-suedwest/
LOCATION:JFE Wannsee\, Königstraße 42\, 14109 Berlin\, Deutschland
CATEGORIES:Bezirk
END:VEVENT
BEGIN:VEVENT
DTSTART;TZID=Europe/Berlin:20250313T180000
DTEND;TZID=Europe/Berlin:20250313T200000
DTSTAMP:20260420T191749
CREATED:20250210T090832Z
LAST-MODIFIED:20250213T105448Z
UID:10001147-1741888800-1741896000@www.spd-fraktion-steglitz-zehlendorf.de
SUMMARY:Kiezkonferenz Zehlendorf Süd-West
DESCRIPTION:
URL:https://www.spd-fraktion-steglitz-zehlendorf.de/event/kiezkonferenz-zehlendorf-sued-west/
LOCATION:JFE Wannsee\, Königstraße 42\, 14109 Berlin\, Deutschland
CATEGORIES:Bezirk
END:VEVENT
END:VCALENDAR